BEGIN:VCALENDAR
VERSION:2.0
PRODID:-//Revista líder en español para el sector MICE - ECPv6.15.20//NONSGML v1.0//EN
CALSCALE:GREGORIAN
METHOD:PUBLISH
X-WR-CALNAME:Revista líder en español para el sector MICE
X-ORIGINAL-URL:https://puntomice.com
X-WR-CALDESC:Eventos para Revista líder en español para el sector MICE
REFRESH-INTERVAL;VALUE=DURATION:PT1H
X-Robots-Tag:noindex
X-PUBLISHED-TTL:PT1H
BEGIN:VTIMEZONE
TZID:Europe/Helsinki
BEGIN:DAYLIGHT
TZOFFSETFROM:+0200
TZOFFSETTO:+0300
TZNAME:EEST
DTSTART:20250330T010000
END:DAYLIGHT
BEGIN:STANDARD
TZOFFSETFROM:+0300
TZOFFSETTO:+0200
TZNAME:EET
DTSTART:20251026T010000
END:STANDARD
BEGIN:DAYLIGHT
TZOFFSETFROM:+0200
TZOFFSETTO:+0300
TZNAME:EEST
DTSTART:20260329T010000
END:DAYLIGHT
BEGIN:STANDARD
TZOFFSETFROM:+0300
TZOFFSETTO:+0200
TZNAME:EET
DTSTART:20261025T010000
END:STANDARD
BEGIN:DAYLIGHT
TZOFFSETFROM:+0200
TZOFFSETTO:+0300
TZNAME:EEST
DTSTART:20270328T010000
END:DAYLIGHT
BEGIN:STANDARD
TZOFFSETFROM:+0300
TZOFFSETTO:+0200
TZNAME:EET
DTSTART:20271031T010000
END:STANDARD
END:VTIMEZONE
BEGIN:VEVENT
DTSTART;VALUE=DATE:20260420
DTEND;VALUE=DATE:20260423
DTSTAMP:20260420T135152
CREATED:20251216T155759Z
LAST-MODIFIED:20251217T092119Z
UID:10000358-1776643200-1776902399@puntomice.com
SUMMARY:IACC Americas Knowledge Exchange 2026
DESCRIPTION:Evento anual de la Asociación Internacional de Centros de Conferencias (IACC)\, una conferencia de desarrollo profesional y networking para los líderes y proveedores de la industria de reuniones y conferencias en América.
URL:https://puntomice.com/agenda-punto-mice/iacc-americas-knowledge-exchange-2026/
LOCATION:Crotonville Conference Center\, Ossining\, United States
ATTACH;FMTTYPE=image/png:https://puntomice.com/wp-content/uploads/2025/12/IACC20Better20Tomorrow20Logo20final1.png
END:VEVENT
BEGIN:VEVENT
DTSTART;VALUE=DATE:20260420
DTEND;VALUE=DATE:20260424
DTSTAMP:20260420T135152
CREATED:20260205T084936Z
LAST-MODIFIED:20260205T084936Z
UID:10000389-1776643200-1776988799@puntomice.com
SUMMARY:SITE Incentive Summit
DESCRIPTION:Evento global de SITE que reúne a profesionales de viajes de incentivo de todo el mundo. Tras celebrarse en Europa durante los últimos cinco años\, la edición de 2026 se realiza por primera vez en Colombia. Solo con invitación.
URL:https://puntomice.com/agenda-punto-mice/site-incentive-summit/
LOCATION:Bogotá\, Bogotá\, Colombia
ATTACH;FMTTYPE=image/png:https://puntomice.com/wp-content/uploads/2026/02/Incentive-Summit-Bogota.png
END:VEVENT
END:VCALENDAR